{
 "currentVersion": 10.81,
 "serviceDescription": "Cabilfrut",
 "name": "Cabilfrut/20220428_Cabilfrut_Pililen5_NDRE",
 "description": "Cabilfrut",
 "extent": {
  "xmin": 320196.20649,
  "ymin": 6415281.078960001,
  "xmax": 320411.52975,
  "ymax": 6415883.64424,
  "spatialReference": {
   "wkid": 32719,
   "latestWkid": 32719
  }
 },
 "initialExtent": {
  "xmin": 320196.20649,
  "ymin": 6415281.078960001,
  "xmax": 320411.52975,
  "ymax": 6415883.64424,
  "spatialReference": {
   "wkid": 32719,
   "latestWkid": 32719
  }
 },
 "fullExtent": {
  "xmin": 320196.20649,
  "ymin": 6415281.078960001,
  "xmax": 320411.52975,
  "ymax": 6415883.64424,
  "spatialReference": {
   "wkid": 32719,
   "latestWkid": 32719
  }
 },
 "pixelSizeX": 0.03693999999999581,
 "pixelSizeY": 0.03693999999998454,
 "datasetFormat": "TIFF",
 "uncompressedSize": 380330592,
 "blockWidth": 5829,
 "blockHeight": 1,
 "compressionType": "None",
 "bandNames": [
  "Band_1",
  "Band_2",
  "Band_3",
  "Band_4"
 ],
 "allowCopy": true,
 "allowAnalysis": true,
 "bandCount": 4,
 "noDataValue": 0,
 "noDataValues": [
  0,
  0,
  0,
  0
 ],
 "pixelType": "U8",
 "minPixelSize": 0,
 "maxPixelSize": 0,
 "copyrightText": "",
 "serviceDataType": "esriImageServiceDataTypeGeneric",
 "serviceSourceType": "esriImageServiceSourceTypeDataset",
 "minValues": [],
 "maxValues": [],
 "meanValues": [],
 "stdvValues": [],
 "objectIdField": "",
 "fields": [],
 "capabilities": "Image,Metadata,Mensuration",
 "defaultMosaicMethod": "Center",
 "allowedMosaicMethods": "",
 "sortField": "",
 "sortValue": null,
 "sortAscending": true,
 "mosaicOperator": "First",
 "maxDownloadSizeLimit": 2097196,
 "defaultCompressionQuality": 75,
 "defaultResamplingMethod": "Bilinear",
 "maxImageHeight": 4100,
 "maxImageWidth": 15000,
 "allowRasterFunction": true,
 "rasterFunctionInfos": [
  {
   "name": "None",
   "description": "",
   "help": ""
  }
 ],
 "rasterTypeInfos": [
  {
   "name": "Raster Dataset",
   "description": "Supports all ArcGIS Raster Datasets",
   "help": ""
  }
 ],
 "mensurationCapabilities": "Basic",
 "hasHistograms": false,
 "hasColormap": false,
 "hasRasterAttributeTable": false,
 "minScale": 0,
 "maxScale": 0,
 "exportTilesAllowed": false,
 "hasMultidimensions": false,
 "supportsStatistics": false,
 "supportsAdvancedQueries": false,
 "editFieldsInfo": null,
 "ownershipBasedAccessControlForRasters": null,
 "allowComputeTiePoints": false,
 "useStandardizedQueries": true,
 "advancedQueryCapabilities": {
  "useStandardizedQueries": true,
  "supportsStatistics": false,
  "supportsOrderBy": false,
  "supportsDistinct": false,
  "supportsPagination": false
 },
 "spatialReference": {
  "wkid": 32719,
  "latestWkid": 32719
 }
}
