{
 "currentVersion": 10.81,
 "serviceDescription": "PFO",
 "name": "PFO/20231029_PFO_CurtisRanch_Sat_RGB",
 "description": "PFO",
 "extent": {
  "xmin": 568331.6154902163,
  "ymin": 4432930.489562371,
  "xmax": 570771.9510152631,
  "ymax": 4433942.054459681,
  "spatialReference": {
   "wkid": 32610,
   "latestWkid": 32610
  }
 },
 "initialExtent": {
  "xmin": 568331.6154902163,
  "ymin": 4432930.489562371,
  "xmax": 570771.9510152631,
  "ymax": 4433942.054459681,
  "spatialReference": {
   "wkid": 32610,
   "latestWkid": 32610
  }
 },
 "fullExtent": {
  "xmin": 568331.6154902163,
  "ymin": 4432930.489562371,
  "xmax": 570771.9510152631,
  "ymax": 4433942.054459681,
  "spatialReference": {
   "wkid": 32610,
   "latestWkid": 32610
  }
 },
 "pixelSizeX": 0.5877494039130061,
 "pixelSizeY": 0.5877773952992381,
 "datasetFormat": "TIFF",
 "uncompressedSize": 57164736,
 "blockWidth": 4152,
 "blockHeight": 1,
 "compressionType": "None",
 "bandNames": [
  "Band_1",
  "Band_2",
  "Band_3",
  "Band_4"
 ],
 "allowCopy": true,
 "allowAnalysis": true,
 "bandCount": 4,
 "noDataValue": 0,
 "noDataValues": [
  0,
  0,
  0,
  0
 ],
 "pixelType": "U16",
 "minPixelSize": 0,
 "maxPixelSize": 0,
 "copyrightText": "",
 "serviceDataType": "esriImageServiceDataTypeGeneric",
 "serviceSourceType": "esriImageServiceSourceTypeDataset",
 "minValues": [],
 "maxValues": [],
 "meanValues": [],
 "stdvValues": [],
 "objectIdField": "",
 "fields": [],
 "capabilities": "Image,Metadata,Mensuration",
 "defaultMosaicMethod": "Center",
 "allowedMosaicMethods": "",
 "sortField": "",
 "sortValue": null,
 "sortAscending": true,
 "mosaicOperator": "First",
 "maxDownloadSizeLimit": 2097196,
 "defaultCompressionQuality": 75,
 "defaultResamplingMethod": "Bilinear",
 "maxImageHeight": 4100,
 "maxImageWidth": 15000,
 "allowRasterFunction": true,
 "rasterFunctionInfos": [
  {
   "name": "None",
   "description": "",
   "help": ""
  }
 ],
 "rasterTypeInfos": [
  {
   "name": "Raster Dataset",
   "description": "Supports all ArcGIS Raster Datasets",
   "help": ""
  }
 ],
 "mensurationCapabilities": "Basic",
 "hasHistograms": false,
 "hasColormap": false,
 "hasRasterAttributeTable": false,
 "minScale": 0,
 "maxScale": 0,
 "exportTilesAllowed": false,
 "hasMultidimensions": false,
 "supportsStatistics": false,
 "supportsAdvancedQueries": false,
 "editFieldsInfo": null,
 "ownershipBasedAccessControlForRasters": null,
 "allowComputeTiePoints": false,
 "useStandardizedQueries": true,
 "advancedQueryCapabilities": {
  "useStandardizedQueries": true,
  "supportsStatistics": false,
  "supportsOrderBy": false,
  "supportsDistinct": false,
  "supportsPagination": false
 },
 "spatialReference": {
  "wkid": 32610,
  "latestWkid": 32610
 }
}
