{
 "currentVersion": 10.81,
 "serviceDescription": "SMWE",
 "name": "SMWE/20200909_ColSolare_RGB",
 "description": "SMWE",
 "extent": {
  "xmin": 312277.556,
  "ymin": 5128225.9086,
  "xmax": 312866.859,
  "ymax": 5128818.7788,
  "spatialReference": {
   "wkid": 32611,
   "latestWkid": 32611
  }
 },
 "initialExtent": {
  "xmin": 312277.556,
  "ymin": 5128225.9086,
  "xmax": 312866.859,
  "ymax": 5128818.7788,
  "spatialReference": {
   "wkid": 32611,
   "latestWkid": 32611
  }
 },
 "fullExtent": {
  "xmin": 312277.556,
  "ymin": 5128225.9086,
  "xmax": 312866.859,
  "ymax": 5128818.7788,
  "spatialReference": {
   "wkid": 32611,
   "latestWkid": 32611
  }
 },
 "pixelSizeX": 0.058480003969436783,
 "pixelSizeY": 0.05847999605451799,
 "datasetFormat": "TIFF",
 "uncompressedSize": 408642504,
 "blockWidth": 10077,
 "blockHeight": 1,
 "compressionType": "None",
 "bandNames": [
  "Band_1",
  "Band_2",
  "Band_3",
  "Band_4"
 ],
 "allowCopy": true,
 "allowAnalysis": true,
 "bandCount": 4,
 "pixelType": "U8",
 "minPixelSize": 0,
 "maxPixelSize": 0,
 "copyrightText": "",
 "serviceDataType": "esriImageServiceDataTypeGeneric",
 "serviceSourceType": "esriImageServiceSourceTypeDataset",
 "minValues": [],
 "maxValues": [],
 "meanValues": [],
 "stdvValues": [],
 "objectIdField": "",
 "fields": [],
 "capabilities": "Mensuration,Image,Metadata",
 "defaultMosaicMethod": "Center",
 "allowedMosaicMethods": "",
 "sortField": "",
 "sortValue": null,
 "sortAscending": true,
 "mosaicOperator": "First",
 "maxDownloadSizeLimit": 2097196,
 "defaultCompressionQuality": 75,
 "defaultResamplingMethod": "Bilinear",
 "maxImageHeight": 4100,
 "maxImageWidth": 15000,
 "allowRasterFunction": true,
 "rasterFunctionInfos": [
  {
   "name": "None",
   "description": "",
   "help": ""
  }
 ],
 "rasterTypeInfos": [
  {
   "name": "Raster Dataset",
   "description": "Supports all ArcGIS Raster Datasets",
   "help": ""
  }
 ],
 "mensurationCapabilities": "Basic",
 "hasHistograms": false,
 "hasColormap": false,
 "hasRasterAttributeTable": false,
 "minScale": 0,
 "maxScale": 0,
 "exportTilesAllowed": false,
 "hasMultidimensions": false,
 "supportsStatistics": false,
 "supportsAdvancedQueries": false,
 "editFieldsInfo": null,
 "ownershipBasedAccessControlForRasters": null,
 "allowComputeTiePoints": false,
 "useStandardizedQueries": true,
 "advancedQueryCapabilities": {
  "useStandardizedQueries": true,
  "supportsStatistics": false,
  "supportsOrderBy": false,
  "supportsDistinct": false,
  "supportsPagination": false
 },
 "spatialReference": {
  "wkid": 32611,
  "latestWkid": 32611
 }
}
