{
 "currentVersion": 10.81,
 "serviceDescription": "Townsend",
 "name": "Townsend/20210718_Townsend_EVI",
 "description": "Townsend",
 "extent": {
  "xmin": 537659.54156,
  "ymin": 5081822.430939999,
  "xmax": 538182.41567,
  "ymax": 5083233.97459,
  "spatialReference": {
   "wkid": 32610,
   "latestWkid": 32610
  }
 },
 "initialExtent": {
  "xmin": 537659.54156,
  "ymin": 5081822.430939999,
  "xmax": 538182.41567,
  "ymax": 5083233.97459,
  "spatialReference": {
   "wkid": 32610,
   "latestWkid": 32610
  }
 },
 "fullExtent": {
  "xmin": 537659.54156,
  "ymin": 5081822.430939999,
  "xmax": 538182.41567,
  "ymax": 5083233.97459,
  "spatialReference": {
   "wkid": 32610,
   "latestWkid": 32610
  }
 },
 "pixelSizeX": 0.10306999999999511,
 "pixelSizeY": 0.103070000000026,
 "datasetFormat": "TIFF",
 "uncompressedSize": 277898940,
 "blockWidth": 5073,
 "blockHeight": 1,
 "compressionType": "None",
 "bandNames": [
  "Band_1",
  "Band_2",
  "Band_3",
  "Band_4"
 ],
 "allowCopy": true,
 "allowAnalysis": true,
 "bandCount": 4,
 "noDataValue": 255,
 "noDataValues": [
  255,
  255,
  255,
  255
 ],
 "pixelType": "U8",
 "minPixelSize": 0,
 "maxPixelSize": 0,
 "copyrightText": "",
 "serviceDataType": "esriImageServiceDataTypeGeneric",
 "serviceSourceType": "esriImageServiceSourceTypeDataset",
 "minValues": [],
 "maxValues": [],
 "meanValues": [],
 "stdvValues": [],
 "objectIdField": "",
 "fields": [],
 "capabilities": "Image,Metadata,Mensuration",
 "defaultMosaicMethod": "Center",
 "allowedMosaicMethods": "",
 "sortField": "",
 "sortValue": null,
 "sortAscending": true,
 "mosaicOperator": "First",
 "maxDownloadSizeLimit": 2097196,
 "defaultCompressionQuality": 75,
 "defaultResamplingMethod": "Bilinear",
 "maxImageHeight": 4100,
 "maxImageWidth": 15000,
 "allowRasterFunction": true,
 "rasterFunctionInfos": [
  {
   "name": "None",
   "description": "",
   "help": ""
  }
 ],
 "rasterTypeInfos": [
  {
   "name": "Raster Dataset",
   "description": "Supports all ArcGIS Raster Datasets",
   "help": ""
  }
 ],
 "mensurationCapabilities": "Basic",
 "hasHistograms": false,
 "hasColormap": false,
 "hasRasterAttributeTable": false,
 "minScale": 0,
 "maxScale": 0,
 "exportTilesAllowed": false,
 "hasMultidimensions": false,
 "supportsStatistics": false,
 "supportsAdvancedQueries": false,
 "editFieldsInfo": null,
 "ownershipBasedAccessControlForRasters": null,
 "allowComputeTiePoints": false,
 "useStandardizedQueries": true,
 "advancedQueryCapabilities": {
  "useStandardizedQueries": true,
  "supportsStatistics": false,
  "supportsOrderBy": false,
  "supportsDistinct": false,
  "supportsPagination": false
 },
 "spatialReference": {
  "wkid": 32610,
  "latestWkid": 32610
 }
}
