View In:
ArcGIS JavaScript
ArcGIS Online Map Viewer
ArcGIS Earth
ArcMap
View Footprint In:
ArcGIS Online Map Viewer
Service Description: AgriManagement/20210602_Agri_Mangement_RGB_tif
Name: AgriManagement/20210602_Agri_Mangement_RGB_tif
Description:
Single Fused Map Cache: false
Extent:
XMin: 285523.95808
YMin: 5215561.21354
XMax: 285901.74592
YMax: 5215807.51594
Spatial Reference: 32611
(32611)
Initial Extent:
XMin: 285523.95808
YMin: 5215561.21354
XMax: 285901.74592
YMax: 5215807.51594
Spatial Reference: 32611
(32611)
Full Extent:
XMin: 285523.95808
YMin: 5215561.21354
XMax: 285901.74592
YMax: 5215807.51594
Spatial Reference: 32611
(32611)
Pixel Size X: 0.04656000000000055
Pixel Size Y: 0.04656000000007437
Band Count: 4
Pixel Type: F32
RasterFunction Infos: {"rasterFunctionInfos": [{
"name": "None",
"description": "",
"help": ""
}]}
Mensuration Capabilities: Basic
Has Histograms: false
Has Colormap: false
Has Multi Dimensions : false
Rendering Rule:
Min Scale: 0
Max Scale: 0
Copyright Text:
Service Data Type: esriImageServiceDataTypeGeneric
Min Values: 0.0099305910989642, 0.0064267609268427, 0.0019183491822332, 255
Max Values: 1.3299659490585, 1.3033702373505, 1.1986993551254, 255
Mean Values: 0.21044487149412, 0.20392489325224, 0.17877784922343, 255
Standard Deviation Values: 0.1389746708956, 0.13900765350247, 0.14284162132349, 0
Object ID Field:
Fields:
None
Default Mosaic Method: Center
Allowed Mosaic Methods:
SortField:
SortValue: null
Mosaic Operator: First
Default Compression Quality: 75
Default Resampling Method: Bilinear
Max Record Count: null
Max Image Height: 4100
Max Image Width: 15000
Max Download Image Count: null
Max Mosaic Image Count: null
Allow Raster Function: true
Allow Copy: true
Allow Analysis: true
Allow Compute TiePoints: false
Supports Statistics: false
Supports Advanced Queries: false
Use StandardizedQueries: true
Raster Type Infos:
Name: Raster Dataset
Description: Supports all ArcGIS Raster Datasets
Help:
Has Raster Attribute Table: false
Edit Fields Info: null
Ownership Based AccessControl For Rasters: null
Child Resources:
Info
Statistics
Key Properties
Legend
Raster Function Infos
Supported Operations:
Export Image
Identify
Measure
Compute Histograms
Compute Statistics Histograms
Get Samples
Compute Class Statistics
Query Boundary
Compute Pixel Location
Validate
Project