View In:
ArcGIS JavaScript
ArcGIS Online Map Viewer
ArcGIS Earth
ArcMap
View Footprint In:
ArcGIS Online Map Viewer
Service Description: Altue
Name: Altue/20231011_Altue_SanAntonio_fix_NDVI
Description: Altue
Single Fused Map Cache: false
Extent:
XMin: 322071.5479383674
YMin: 6157980.296099048
XMax: 322519.8070502155
YMax: 6158826.242292
Spatial Reference: 32719
(32719)
Initial Extent:
XMin: 322071.5479383674
YMin: 6157980.296099048
XMax: 322519.8070502155
YMax: 6158826.242292
Spatial Reference: 32719
(32719)
Full Extent:
XMin: 322071.5479383674
YMin: 6157980.296099048
XMax: 322519.8070502155
YMax: 6158826.242292
Spatial Reference: 32719
(32719)
Pixel Size X: 0.030893115909584958
Pixel Size Y: 0.030893115909574297
Band Count: 4
Pixel Type: U8
RasterFunction Infos: {"rasterFunctionInfos": [{
"name": "None",
"description": "",
"help": ""
}]}
Mensuration Capabilities: Basic
Has Histograms: false
Has Colormap: false
Has Multi Dimensions : false
Rendering Rule:
Min Scale: 0
Max Scale: 0
Copyright Text:
Service Data Type: esriImageServiceDataTypeGeneric
Min Values: N/A
Max Values: N/A
Mean Values: N/A
Standard Deviation Values: N/A
Object ID Field:
Fields:
None
Default Mosaic Method: Center
Allowed Mosaic Methods:
SortField:
SortValue: null
Mosaic Operator: First
Default Compression Quality: 75
Default Resampling Method: Bilinear
Max Record Count: null
Max Image Height: 4100
Max Image Width: 15000
Max Download Image Count: null
Max Mosaic Image Count: null
Allow Raster Function: true
Allow Copy: true
Allow Analysis: true
Allow Compute TiePoints: false
Supports Statistics: false
Supports Advanced Queries: false
Use StandardizedQueries: true
Raster Type Infos:
Name: Raster Dataset
Description: Supports all ArcGIS Raster Datasets
Help:
Has Raster Attribute Table: false
Edit Fields Info: null
Ownership Based AccessControl For Rasters: null
Child Resources:
Info
Statistics
Key Properties
Legend
Raster Function Infos
Supported Operations:
Export Image
Identify
Measure
Compute Histograms
Compute Statistics Histograms
Get Samples
Compute Class Statistics
Query Boundary
Compute Pixel Location
Validate
Project