View In:
ArcGIS JavaScript
ArcGIS Online Map Viewer
ArcGIS Earth
ArcMap
View Footprint In:
ArcGIS Online Map Viewer
Service Description: SMWE
Name: SMWE/20180717_SMWE_ColSolare_NDRE_low_resolution_morph
Description: SMWE
Single Fused Map Cache: false
Extent:
XMin: 1909575.2863637654
YMin: 348030.2478151697
XMax: 1910939.4542841923
YMax: 349363.0745137246
Spatial Reference: 103566
(103566)
Initial Extent:
XMin: 1909575.2863637654
YMin: 348030.2478151697
XMax: 1910939.4542841923
YMax: 349363.0745137246
Spatial Reference: 103566
(103566)
Full Extent:
XMin: 1909575.2863637654
YMin: 348030.2478151697
XMax: 1910939.4542841923
YMax: 349363.0745137246
Spatial Reference: 103566
(103566)
Pixel Size X: 0.8247689966305509
Pixel Size Y: 0.8247689966305152
Band Count: 3
Pixel Type: U8
RasterFunction Infos: {"rasterFunctionInfos": [{
"name": "None",
"description": "",
"help": ""
}]}
Mensuration Capabilities: Basic
Has Histograms: false
Has Colormap: false
Has Multi Dimensions : false
Rendering Rule:
Min Scale: 0
Max Scale: 0
Copyright Text:
Service Data Type: esriImageServiceDataTypeRGB
Min Values: N/A
Max Values: N/A
Mean Values: N/A
Standard Deviation Values: N/A
Object ID Field:
Fields:
None
Default Mosaic Method: Center
Allowed Mosaic Methods:
SortField:
SortValue: null
Mosaic Operator: First
Default Compression Quality: 75
Default Resampling Method: Bilinear
Max Record Count: null
Max Image Height: 4100
Max Image Width: 15000
Max Download Image Count: null
Max Mosaic Image Count: null
Allow Raster Function: true
Allow Copy: true
Allow Analysis: true
Allow Compute TiePoints: false
Supports Statistics: false
Supports Advanced Queries: false
Use StandardizedQueries: true
Raster Type Infos:
Name: Raster Dataset
Description: Supports all ArcGIS Raster Datasets
Help:
Has Raster Attribute Table: false
Edit Fields Info: null
Ownership Based AccessControl For Rasters: null
Child Resources:
Info
Statistics
Key Properties
Legend
Raster Function Infos
Supported Operations:
Export Image
Identify
Measure
Compute Histograms
Compute Statistics Histograms
Get Samples
Compute Class Statistics
Query Boundary
Compute Pixel Location
Validate
Project