View In:
ArcGIS JavaScript
ArcGIS Online Map Viewer
ArcGIS Earth
ArcMap
View Footprint In:
ArcGIS Online Map Viewer
Service Description: SierraGold
Name: SierraGold/20220430_SierraGold_Block28_RGB
Description: SierraGold
Single Fused Map Cache: false
Extent:
XMin: 618964.1378738163
YMin: 4318903.0694825165
XMax: 619223.1414758727
YMax: 4319244.681484193
Spatial Reference: 32610
(32610)
Initial Extent:
XMin: 618964.1378738163
YMin: 4318903.0694825165
XMax: 619223.1414758727
YMax: 4319244.681484193
Spatial Reference: 32610
(32610)
Full Extent:
XMin: 618964.1378738163
YMin: 4318903.0694825165
XMax: 619223.1414758727
YMax: 4319244.681484193
Spatial Reference: 32610
(32610)
Pixel Size X: 0.05589201598109944
Pixel Size Y: 0.055892015981039336
Band Count: 4
Pixel Type: F32
RasterFunction Infos: {"rasterFunctionInfos": [{
"name": "None",
"description": "",
"help": ""
}]}
Mensuration Capabilities: Basic
Has Histograms: false
Has Colormap: false
Has Multi Dimensions : false
Rendering Rule:
Min Scale: 0
Max Scale: 0
Copyright Text:
Service Data Type: esriImageServiceDataTypeGeneric
Min Values: N/A
Max Values: N/A
Mean Values: N/A
Standard Deviation Values: N/A
Object ID Field:
Fields:
None
Default Mosaic Method: Center
Allowed Mosaic Methods:
SortField:
SortValue: null
Mosaic Operator: First
Default Compression Quality: 75
Default Resampling Method: Bilinear
Max Record Count: null
Max Image Height: 4100
Max Image Width: 15000
Max Download Image Count: null
Max Mosaic Image Count: null
Allow Raster Function: true
Allow Copy: true
Allow Analysis: true
Allow Compute TiePoints: false
Supports Statistics: false
Supports Advanced Queries: false
Use StandardizedQueries: true
Raster Type Infos:
Name: Raster Dataset
Description: Supports all ArcGIS Raster Datasets
Help:
Has Raster Attribute Table: false
Edit Fields Info: null
Ownership Based AccessControl For Rasters: null
Child Resources:
Info
Statistics
Key Properties
Legend
Raster Function Infos
Supported Operations:
Export Image
Identify
Measure
Compute Histograms
Compute Statistics Histograms
Get Samples
Compute Class Statistics
Query Boundary
Compute Pixel Location
Validate
Project