View In:
ArcGIS JavaScript
ArcGIS Online Map Viewer
ArcGIS Earth
ArcMap
View Footprint In:
ArcGIS Online Map Viewer
Service Description: Stoller
Name: Stoller/20221121_Stoller_UF_Fall2022_Tomato_Satellite_RGB
Description: Stoller
Single Fused Map Cache: false
Extent:
XMin: 379216.25076364446
YMin: 3070719.4350862894
XMax: 379257.4874788028
YMax: 3070835.195985469
Spatial Reference: 32617
(32617)
Initial Extent:
XMin: 379216.25076364446
YMin: 3070719.4350862894
XMax: 379257.4874788028
YMax: 3070835.195985469
Spatial Reference: 32617
(32617)
Full Extent:
XMin: 379216.25076364446
YMin: 3070719.4350862894
XMax: 379257.4874788028
YMax: 3070835.195985469
Spatial Reference: 32617
(32617)
Pixel Size X: 0.49682789347386996
Pixel Size Y: 0.4968278934747428
Band Count: 5
Pixel Type: U16
RasterFunction Infos: {"rasterFunctionInfos": [{
"name": "None",
"description": "",
"help": ""
}]}
Mensuration Capabilities: Basic
Has Histograms: false
Has Colormap: false
Has Multi Dimensions : false
Rendering Rule:
Min Scale: 0
Max Scale: 0
Copyright Text:
Service Data Type: esriImageServiceDataTypeGeneric
Min Values: N/A
Max Values: N/A
Mean Values: N/A
Standard Deviation Values: N/A
Object ID Field:
Fields:
None
Default Mosaic Method: Center
Allowed Mosaic Methods:
SortField:
SortValue: null
Mosaic Operator: First
Default Compression Quality: 75
Default Resampling Method: Bilinear
Max Record Count: null
Max Image Height: 4100
Max Image Width: 15000
Max Download Image Count: null
Max Mosaic Image Count: null
Allow Raster Function: true
Allow Copy: true
Allow Analysis: true
Allow Compute TiePoints: false
Supports Statistics: false
Supports Advanced Queries: false
Use StandardizedQueries: true
Raster Type Infos:
Name: Raster Dataset
Description: Supports all ArcGIS Raster Datasets
Help:
Has Raster Attribute Table: false
Edit Fields Info: null
Ownership Based AccessControl For Rasters: null
Child Resources:
Info
Statistics
Key Properties
Legend
Raster Function Infos
Supported Operations:
Export Image
Identify
Measure
Compute Histograms
Compute Statistics Histograms
Get Samples
Compute Class Statistics
Query Boundary
Compute Pixel Location
Validate
Project