View In:
ArcGIS JavaScript
ArcGIS Online Map Viewer
ArcGIS Earth
ArcMap
View Footprint In:
ArcGIS Online Map Viewer
Service Description: Stoller
Name: Stoller/20230913_Stoller_Sodus_fix_RGB
Description: Stoller
Single Fused Map Cache: false
Extent:
XMin: 338913.48223608104
YMin: 4787393.112942403
XMax: 339013.0121012194
YMax: 4787479.978967843
Spatial Reference: 32618
(32618)
Initial Extent:
XMin: 338913.48223608104
YMin: 4787393.112942403
XMax: 339013.0121012194
YMax: 4787479.978967843
Spatial Reference: 32618
(32618)
Full Extent:
XMin: 338913.48223608104
YMin: 4787393.112942403
XMax: 339013.0121012194
YMax: 4787479.978967843
Spatial Reference: 32618
(32618)
Pixel Size X: 0.03297874921747817
Pixel Size Y: 0.032978749217715854
Band Count: 4
Pixel Type: U8
RasterFunction Infos: {"rasterFunctionInfos": [{
"name": "None",
"description": "",
"help": ""
}]}
Mensuration Capabilities: Basic
Has Histograms: false
Has Colormap: false
Has Multi Dimensions : false
Rendering Rule:
Min Scale: 0
Max Scale: 0
Copyright Text:
Service Data Type: esriImageServiceDataTypeGeneric
Min Values: N/A
Max Values: N/A
Mean Values: N/A
Standard Deviation Values: N/A
Object ID Field:
Fields:
None
Default Mosaic Method: Center
Allowed Mosaic Methods:
SortField:
SortValue: null
Mosaic Operator: First
Default Compression Quality: 75
Default Resampling Method: Bilinear
Max Record Count: null
Max Image Height: 4100
Max Image Width: 15000
Max Download Image Count: null
Max Mosaic Image Count: null
Allow Raster Function: true
Allow Copy: true
Allow Analysis: true
Allow Compute TiePoints: false
Supports Statistics: false
Supports Advanced Queries: false
Use StandardizedQueries: true
Raster Type Infos:
Name: Raster Dataset
Description: Supports all ArcGIS Raster Datasets
Help:
Has Raster Attribute Table: false
Edit Fields Info: null
Ownership Based AccessControl For Rasters: null
Child Resources:
Info
Statistics
Key Properties
Legend
Raster Function Infos
Supported Operations:
Export Image
Identify
Measure
Compute Histograms
Compute Statistics Histograms
Get Samples
Compute Class Statistics
Query Boundary
Compute Pixel Location
Validate
Project