View In:
ArcGIS JavaScript
ArcGIS Online Map Viewer
ArcGIS Earth
ArcMap
View Footprint In:
ArcGIS Online Map Viewer
Service Description: Velkov
Name: Velkov/20230610_Velkov_Patrusno_RGB
Description: Velkov
Single Fused Map Cache: false
Extent:
XMin: 381660.2191495369
YMin: 5093225.254175917
XMax: 381919.29474251065
YMax: 5093380.687477936
Spatial Reference: 32633
(32633)
Initial Extent:
XMin: 381660.2191495369
YMin: 5093225.254175917
XMax: 381919.29474251065
YMax: 5093380.687477936
Spatial Reference: 32633
(32633)
Full Extent:
XMin: 381660.2191495369
YMin: 5093225.254175917
XMax: 381919.29474251065
YMax: 5093380.687477936
Spatial Reference: 32633
(32633)
Pixel Size X: 0.020089608636300806
Pixel Size Y: 0.02008960863626618
Band Count: 5
Pixel Type: F32
RasterFunction Infos: {"rasterFunctionInfos": [{
"name": "None",
"description": "",
"help": ""
}]}
Mensuration Capabilities: Basic
Has Histograms: false
Has Colormap: false
Has Multi Dimensions : false
Rendering Rule:
Min Scale: 0
Max Scale: 0
Copyright Text:
Service Data Type: esriImageServiceDataTypeGeneric
Min Values: N/A
Max Values: N/A
Mean Values: N/A
Standard Deviation Values: N/A
Object ID Field:
Fields:
None
Default Mosaic Method: Center
Allowed Mosaic Methods:
SortField:
SortValue: null
Mosaic Operator: First
Default Compression Quality: 75
Default Resampling Method: Bilinear
Max Record Count: null
Max Image Height: 4100
Max Image Width: 15000
Max Download Image Count: null
Max Mosaic Image Count: null
Allow Raster Function: true
Allow Copy: true
Allow Analysis: true
Allow Compute TiePoints: false
Supports Statistics: false
Supports Advanced Queries: false
Use StandardizedQueries: true
Raster Type Infos:
Name: Raster Dataset
Description: Supports all ArcGIS Raster Datasets
Help:
Has Raster Attribute Table: false
Edit Fields Info: null
Ownership Based AccessControl For Rasters: null
Child Resources:
Info
Statistics
Key Properties
Legend
Raster Function Infos
Supported Operations:
Export Image
Identify
Measure
Compute Histograms
Compute Statistics Histograms
Get Samples
Compute Class Statistics
Query Boundary
Compute Pixel Location
Validate
Project