View In:
ArcGIS JavaScript
ArcGIS Online Map Viewer
ArcGIS Earth
ArcMap
View Footprint In:
ArcGIS Online Map Viewer
Service Description: Wingtra
Name: Wingtra/20220209_Wingtra_Lima_PalmreeDemo_NDRE
Description: Wingtra
Single Fused Map Cache: false
Extent:
XMin: 287547.02161778754
YMin: 6235834.083346801
XMax: 288034.5278912762
YMax: 6236190.043723309
Spatial Reference: 32721
(32721)
Initial Extent:
XMin: 287547.02161778754
YMin: 6235834.083346801
XMax: 288034.5278912762
YMax: 6236190.043723309
Spatial Reference: 32721
(32721)
Full Extent:
XMin: 287547.02161778754
YMin: 6235834.083346801
XMax: 288034.5278912762
YMax: 6236190.043723309
Spatial Reference: 32721
(32721)
Pixel Size X: 0.02390439705249733
Pixel Size Y: 0.023904397052483643
Band Count: 4
Pixel Type: U8
RasterFunction Infos: {"rasterFunctionInfos": [{
"name": "None",
"description": "",
"help": ""
}]}
Mensuration Capabilities: Basic
Has Histograms: false
Has Colormap: false
Has Multi Dimensions : false
Rendering Rule:
Min Scale: 0
Max Scale: 0
Copyright Text:
Service Data Type: esriImageServiceDataTypeGeneric
Min Values: N/A
Max Values: N/A
Mean Values: N/A
Standard Deviation Values: N/A
Object ID Field:
Fields:
None
Default Mosaic Method: Center
Allowed Mosaic Methods:
SortField:
SortValue: null
Mosaic Operator: First
Default Compression Quality: 75
Default Resampling Method: Bilinear
Max Record Count: null
Max Image Height: 4100
Max Image Width: 15000
Max Download Image Count: null
Max Mosaic Image Count: null
Allow Raster Function: true
Allow Copy: true
Allow Analysis: true
Allow Compute TiePoints: false
Supports Statistics: false
Supports Advanced Queries: false
Use StandardizedQueries: true
Raster Type Infos:
Name: Raster Dataset
Description: Supports all ArcGIS Raster Datasets
Help:
Has Raster Attribute Table: false
Edit Fields Info: null
Ownership Based AccessControl For Rasters: null
Child Resources:
Info
Statistics
Key Properties
Legend
Raster Function Infos
Supported Operations:
Export Image
Identify
Measure
Compute Histograms
Compute Statistics Histograms
Get Samples
Compute Class Statistics
Query Boundary
Compute Pixel Location
Validate
Project